BEGIN:VCALENDAR
VERSION:2.0
PRODID:-//202.59.111.200//NONSGML kigkonsult.se iCalcreator 2.20//
CALSCALE:GREGORIAN
METHOD:PUBLISH
X-FROM-URL:https://www.saltwatercountry.com.au
X-WR-TIMEZONE:Australia/Perth
BEGIN:VTIMEZONE
TZID:Australia/Perth
X-LIC-LOCATION:Australia/Perth
BEGIN:STANDARD
DTSTART:20090329T030000
TZOFFSETFROM:+0900
TZOFFSETTO:+0800
TZNAME:AWST
END:STANDARD
END:VTIMEZONE
BEGIN:VEVENT
UID:ai1ec-6297@www.saltwatercountry.com.au
DTSTAMP:20210226T234759Z
CATEGORIES;LANGUAGE=en-US:Rodeo
CONTACT:
DESCRIPTION:
DTSTART;VALUE=DATE:20180809
DTEND;VALUE=DATE:20180813
SEQUENCE:0
SUMMARY:Mt Isa Rodeo
URL:https://www.saltwatercountry.com.au/event/6297/
X-COST-TYPE:free
END:VEVENT
BEGIN:VEVENT
UID:ai1ec-7004@www.saltwatercountry.com.au
DTSTAMP:20210226T234759Z
CATEGORIES;LANGUAGE=en-US:Campdraft\,Rodeo
CONTACT:
DESCRIPTION:
DTSTART;VALUE=DATE:20180810
DTEND;VALUE=DATE:20180813
LOCATION:Derby Rodeo Ground @ Derby\, WA
SEQUENCE:0
SUMMARY:DERBY RODEO & CAMPDRAFT
URL:https://www.saltwatercountry.com.au/event/7004/
X-COST-TYPE:free
END:VEVENT
BEGIN:VEVENT
UID:ai1ec-7010@www.saltwatercountry.com.au
DTSTAMP:20210226T234759Z
CATEGORIES;LANGUAGE=en-US:Campdraft
CONTACT:
DESCRIPTION:
DTSTART;VALUE=DATE:20180823
DTEND;VALUE=DATE:20180825
LOCATION:NEWMAN WA
SEQUENCE:0
SUMMARY:NEWMAN ANNUAL CAMPDRAFT
URL:https://www.saltwatercountry.com.au/event/newman-annual-campdraft/
X-COST-TYPE:free
END:VEVENT
BEGIN:VEVENT
UID:ai1ec-7012@www.saltwatercountry.com.au
DTSTAMP:20210226T234759Z
CATEGORIES;LANGUAGE=en-US:Campdraft\,Rodeo
CONTACT:
DESCRIPTION:
DTSTART;VALUE=DATE:20180830
DTEND;VALUE=DATE:20180902
SEQUENCE:0
SUMMARY:ROBE RIVER CAMPDRAFT & RODEO
URL:https://www.saltwatercountry.com.au/event/robe-river-campdraft-rodeo/
X-COST-TYPE:free
END:VEVENT
BEGIN:VEVENT
UID:ai1ec-7011@www.saltwatercountry.com.au
DTSTAMP:20210226T234759Z
CATEGORIES;LANGUAGE=en-US:Rodeo
CONTACT:
DESCRIPTION:
DTSTART;VALUE=DATE:20180908
DTEND;VALUE=DATE:20180909
SEQUENCE:0
SUMMARY:ONLSOW RODEO
URL:https://www.saltwatercountry.com.au/event/onlsow-rodeo/
X-COST-TYPE:free
END:VEVENT
BEGIN:VEVENT
UID:ai1ec-6295@www.saltwatercountry.com.au
DTSTAMP:20210226T234759Z
CATEGORIES;LANGUAGE=en-US:Campdraft\,Rodeo
CONTACT:
DESCRIPTION:
DTSTART;VALUE=DATE:20180921
DTEND;VALUE=DATE:20180923
SEQUENCE:0
SUMMARY:Rhythm & Ride
URL:https://www.saltwatercountry.com.au/event/rhythm-ride/
X-COST-TYPE:free
END:VEVENT
BEGIN:VEVENT
UID:ai1ec-7007@www.saltwatercountry.com.au
DTSTAMP:20210226T234759Z
CATEGORIES;LANGUAGE=en-US:Festivals
CONTACT:
DESCRIPTION:
DTSTART;VALUE=DATE:20190907
DTEND;VALUE=DATE:20190916
LOCATION:BROOME WA
SEQUENCE:0
SUMMARY:SHINJU MATSURI
URL:https://www.saltwatercountry.com.au/event/shinju-matsuri-2/
X-COST-TYPE:free
END:VEVENT
BEGIN:VEVENT
UID:ai1ec-7196@www.saltwatercountry.com.au
DTSTAMP:20210226T234759Z
CATEGORIES;LANGUAGE=en-US:Music\,Rodeo
CONTACT:
DESCRIPTION:
DTSTART;VALUE=DATE:20190921
DTEND;VALUE=DATE:20190922
LOCATION:Jack Knox Arena\, Broome Rodeo Ground @ Broome Highway\, Broome WA
SEQUENCE:0
SUMMARY:R&R Rodeo
URL:https://www.saltwatercountry.com.au/event/rhythm-ride-rodeo/
X-COST-TYPE:free
END:VEVENT
BEGIN:VEVENT
UID:ai1ec-7521@www.saltwatercountry.com.au
DTSTAMP:20210226T234759Z
CATEGORIES;LANGUAGE=en-US:Campdraft\,Festivals\,Rodeo
CONTACT:
DESCRIPTION:<p>Tickets: <a class='ai1ec-ticket-url-exported' href='https://
 www.rhythmandride.com.au/'>https://www.rhythmandride.com.au/</a>.</p>
DTSTART;VALUE=DATE:20200911
DTEND;VALUE=DATE:20200913
SEQUENCE:0
SUMMARY:Rhythm & Ride 2020
URL:https://www.saltwatercountry.com.au/event/rhythm-ride-2020/
X-COST-TYPE:external
X-TICKETS-URL:https://www.rhythmandride.com.au/
END:VEVENT
BEGIN:VEVENT
UID:ai1ec-7006@www.saltwatercountry.com.au
DTSTAMP:20210226T234759Z
CATEGORIES;LANGUAGE=en-US:Rodeo
CONTACT:
DESCRIPTION:
DTSTART;TZID=Australia/Perth:20180817T160000
DTEND;TZID=Australia/Perth:20180817T235900
LOCATION:JACK KNOX ARENA @ BROOME HIGHWAY
SEQUENCE:0
SUMMARY:BROOME RODEO
URL:https://www.saltwatercountry.com.au/event/broome-rodeo-2/
X-COST-TYPE:free
END:VEVENT
BEGIN:VEVENT
UID:ai1ec-7193@www.saltwatercountry.com.au
DTSTAMP:20210226T234759Z
CATEGORIES;LANGUAGE=en-US:Kids Activities
CONTACT:
DESCRIPTION:
DTSTART;TZID=Australia/Perth:20190809T173000
DTEND;TZID=Australia/Perth:20190809T213000
SEQUENCE:0
SUMMARY:Saltwater Activation – Movie Night
URL:https://www.saltwatercountry.com.au/event/saltwater-community-activatio
 n-movie-night/
X-COST-TYPE:free
END:VEVENT
BEGIN:VEVENT
UID:ai1ec-7194@www.saltwatercountry.com.au
DTSTAMP:20210226T234759Z
CATEGORIES;LANGUAGE=en-US:Kids Activities
CONTACT:
DESCRIPTION:
DTSTART;TZID=Australia/Perth:20190830T150000
DTEND;TZID=Australia/Perth:20190830T180000
LOCATION:Broome Visitor Centre @ Male Oval
SEQUENCE:0
SUMMARY:Saltwater Activation – Horse Rides
URL:https://www.saltwatercountry.com.au/event/saltwater-community-activatio
 n-horse-rides/
X-COST-TYPE:free
END:VEVENT
BEGIN:VEVENT
UID:ai1ec-7153@www.saltwatercountry.com.au
DTSTAMP:20210226T234759Z
CATEGORIES;LANGUAGE=en-US:Campdraft
CONTACT:
DESCRIPTION:
DTSTART;TZID=Australia/Perth:20190920T080000
DTEND;TZID=Australia/Perth:20190920T140000
LOCATION:Jack Knox Arena\, Broome Rodeo Ground @ Broome Highway\, Broome W.
 A.
SEQUENCE:0
SUMMARY:R&R Campdraft
URL:https://www.saltwatercountry.com.au/event/rhythm-ride-3/
X-COST-TYPE:free
END:VEVENT
BEGIN:VEVENT
UID:ai1ec-7195@www.saltwatercountry.com.au
DTSTAMP:20210226T234759Z
CATEGORIES;LANGUAGE=en-US:Kids Activities\,Music
CONTACT:
DESCRIPTION:
DTSTART;TZID=Australia/Perth:20190920T150000
DTEND;TZID=Australia/Perth:20190920T200000
LOCATION:Jack Knox Arena\, Broome Rodeo Ground @ Broome Highway\, Broome WA
SEQUENCE:0
SUMMARY:R&R Kids to the Front
URL:https://www.saltwatercountry.com.au/event/rhythm-ride-kids-to-the-front
 /
X-COST-TYPE:free
END:VEVENT
END:VCALENDAR
